BEGIN:VCALENDAR
PRODID:-//Microsoft Corporation//Outlook MIMEDIR//EN
VERSION:2.0
METHOD:PUBLISH
BEGIN:VEVENT
DTSTART:20260519T190000
DTEND:20260519T200000
DESCRIPTION:CANCELLED - https://ca-signalhill2.civicplus.com/Archive.aspx?ADID=3521
LOCATION:CANCELLED - https://ca-signalhill2.civicplus.com/Archive.aspx?ADID=3521
SUMMARY:Planning Commission
CATEGORIES:MEETING
END:VEVENT
END:VCALENDAR
